BEGIN:VCALENDAR
VERSION:2.0
PRODID:-// - ECPv6.15.20//NONSGML v1.0//EN
CALSCALE:GREGORIAN
METHOD:PUBLISH
X-ORIGINAL-URL:https://macdonaldvalleyassociation.org.au
X-WR-CALDESC:Events for 
REFRESH-INTERVAL;VALUE=DURATION:PT1H
X-Robots-Tag:noindex
X-PUBLISHED-TTL:PT1H
BEGIN:VTIMEZONE
TZID:Australia/Sydney
BEGIN:STANDARD
TZOFFSETFROM:+1100
TZOFFSETTO:+1000
TZNAME:AEST
DTSTART:20250405T160000
END:STANDARD
BEGIN:DAYLIGHT
TZOFFSETFROM:+1000
TZOFFSETTO:+1100
TZNAME:AEDT
DTSTART:20251004T160000
END:DAYLIGHT
BEGIN:STANDARD
TZOFFSETFROM:+1100
TZOFFSETTO:+1000
TZNAME:AEST
DTSTART:20260404T160000
END:STANDARD
BEGIN:DAYLIGHT
TZOFFSETFROM:+1000
TZOFFSETTO:+1100
TZNAME:AEDT
DTSTART:20261003T160000
END:DAYLIGHT
BEGIN:STANDARD
TZOFFSETFROM:+1100
TZOFFSETTO:+1000
TZNAME:AEST
DTSTART:20270403T160000
END:STANDARD
BEGIN:DAYLIGHT
TZOFFSETFROM:+1000
TZOFFSETTO:+1100
TZNAME:AEDT
DTSTART:20271002T160000
END:DAYLIGHT
END:VTIMEZONE
BEGIN:VEVENT
DTSTART;VALUE=DATE:20260424
DTEND;VALUE=DATE:20260427
DTSTAMP:20260422T195020
CREATED:20251114T053303Z
LAST-MODIFIED:20251114T053303Z
UID:10002047-1776988800-1777247999@macdonaldvalleyassociation.org.au
SUMMARY:St Albans Folk Festival
DESCRIPTION:Operates throughout the village precinct.\nContact the Festival Organisers for further details.
URL:https://macdonaldvalleyassociation.org.au/event/st-albans-folk-festival-2/
LOCATION:St Albans NSW\, Australia
CATEGORIES:Village Event
END:VEVENT
BEGIN:VEVENT
DTSTART;VALUE=DATE:20260425
DTEND;VALUE=DATE:20260426
DTSTAMP:20260422T195020
CREATED:20251114T051133Z
LAST-MODIFIED:20251114T051133Z
UID:10002042-1777075200-1777161599@macdonaldvalleyassociation.org.au
SUMMARY:ANZAC Day
DESCRIPTION:Public Holiday
URL:https://macdonaldvalleyassociation.org.au/event/anzac-day/
LOCATION:St Albans NSW\, Australia
CATEGORIES:Public Holiday
END:VEVENT
BEGIN:VEVENT
DTSTART;TZID=Australia/Sydney:20260425T080000
DTEND;TZID=Australia/Sydney:20260425T090000
DTSTAMP:20260422T195020
CREATED:20241206T002410Z
LAST-MODIFIED:20241209T032545Z
UID:10001763-1777104000-1777107600@macdonaldvalleyassociation.org.au
SUMMARY:YOGA
DESCRIPTION:The Committee of the St Albans School of Arts Hall are pleased to let the community know that yoga classes instructed by Esh (with 40 years experience) will be held in the hall on Saturdays 8.00 -9.00 am. \nIt is a great plus to have an instructor who lives locally and is able to work at such a great location. Come along for a great workout\, newcomers welcome. \nCost: $15 to the instructor please
URL:https://macdonaldvalleyassociation.org.au/event/yoga/2026-04-25/
LOCATION:St Albans School of Arts
CATEGORIES:Community Calendar
ATTACH;FMTTYPE=image/jpeg:https://macdonaldvalleyassociation.org.au/wp-content/uploads/2024/12/IMG_0096.jpeg
ORGANIZER;CN="St Albans School of Arts Committee":MAILTO:bookings@stalbansschoolofarts.org
END:VEVENT
BEGIN:VEVENT
DTSTART;TZID=Australia/Sydney:20260502T080000
DTEND;TZID=Australia/Sydney:20260502T090000
DTSTAMP:20260422T195020
CREATED:20241206T002410Z
LAST-MODIFIED:20241209T032545Z
UID:10001764-1777708800-1777712400@macdonaldvalleyassociation.org.au
SUMMARY:YOGA
DESCRIPTION:The Committee of the St Albans School of Arts Hall are pleased to let the community know that yoga classes instructed by Esh (with 40 years experience) will be held in the hall on Saturdays 8.00 -9.00 am. \nIt is a great plus to have an instructor who lives locally and is able to work at such a great location. Come along for a great workout\, newcomers welcome. \nCost: $15 to the instructor please
URL:https://macdonaldvalleyassociation.org.au/event/yoga/2026-05-02/
LOCATION:St Albans School of Arts
CATEGORIES:Community Calendar
ATTACH;FMTTYPE=image/jpeg:https://macdonaldvalleyassociation.org.au/wp-content/uploads/2024/12/IMG_0096.jpeg
ORGANIZER;CN="St Albans School of Arts Committee":MAILTO:bookings@stalbansschoolofarts.org
END:VEVENT
BEGIN:VEVENT
DTSTART;TZID=Australia/Sydney:20260509T080000
DTEND;TZID=Australia/Sydney:20260509T090000
DTSTAMP:20260422T195020
CREATED:20241206T002410Z
LAST-MODIFIED:20241209T032545Z
UID:10001765-1778313600-1778317200@macdonaldvalleyassociation.org.au
SUMMARY:YOGA
DESCRIPTION:The Committee of the St Albans School of Arts Hall are pleased to let the community know that yoga classes instructed by Esh (with 40 years experience) will be held in the hall on Saturdays 8.00 -9.00 am. \nIt is a great plus to have an instructor who lives locally and is able to work at such a great location. Come along for a great workout\, newcomers welcome. \nCost: $15 to the instructor please
URL:https://macdonaldvalleyassociation.org.au/event/yoga/2026-05-09/
LOCATION:St Albans School of Arts
CATEGORIES:Community Calendar
ATTACH;FMTTYPE=image/jpeg:https://macdonaldvalleyassociation.org.au/wp-content/uploads/2024/12/IMG_0096.jpeg
ORGANIZER;CN="St Albans School of Arts Committee":MAILTO:bookings@stalbansschoolofarts.org
END:VEVENT
BEGIN:VEVENT
DTSTART;TZID=Australia/Sydney:20260509T083000
DTEND;TZID=Australia/Sydney:20260509T160000
DTSTAMP:20260422T195020
CREATED:20251125T054819Z
LAST-MODIFIED:20251125T054819Z
UID:10002059-1778315400-1778342400@macdonaldvalleyassociation.org.au
SUMMARY:St Albans Common Working Bee
DESCRIPTION:Working bee dates for 2026 are every second Saturday of the month. \nPlease bring a plate to share for morning tea.  Lunch is provided.\nPlease bring tractors\, excavators\, brush cutters\, chipping hoes\, chainsaws and a sense of humour 🙂
URL:https://macdonaldvalleyassociation.org.au/event/st-albans-common-working-bee-15/
LOCATION:St Albans Common
CATEGORIES:Common Events,Community Calendar
ORGANIZER;CN="St Albans Common":MAILTO:stalbanscommon589@gmail.com
END:VEVENT
BEGIN:VEVENT
DTSTART;TZID=Australia/Sydney:20260510T100000
DTEND;TZID=Australia/Sydney:20260510T140000
DTSTAMP:20260422T195020
CREATED:20251114T040824Z
LAST-MODIFIED:20251114T040824Z
UID:10002028-1778407200-1778421600@macdonaldvalleyassociation.org.au
SUMMARY:St Albans Village Market
DESCRIPTION:Mothers Day
URL:https://macdonaldvalleyassociation.org.au/event/st-albans-village-market-6/
LOCATION:St Albans Village Market\, 2 Wharf St\, St Albans\, NSW\, 2775\, Australia
CATEGORIES:Community Calendar,Markets
ATTACH;FMTTYPE=image/png:https://macdonaldvalleyassociation.org.au/wp-content/uploads/2025/11/Market-Logo-circle-only-3-scaled.png
ORGANIZER;CN="St Albans Village Market":MAILTO:diana@furneyvall.com.au
END:VEVENT
BEGIN:VEVENT
DTSTART;TZID=Australia/Sydney:20260516T080000
DTEND;TZID=Australia/Sydney:20260516T090000
DTSTAMP:20260422T195020
CREATED:20241206T002410Z
LAST-MODIFIED:20241209T032545Z
UID:10001766-1778918400-1778922000@macdonaldvalleyassociation.org.au
SUMMARY:YOGA
DESCRIPTION:The Committee of the St Albans School of Arts Hall are pleased to let the community know that yoga classes instructed by Esh (with 40 years experience) will be held in the hall on Saturdays 8.00 -9.00 am. \nIt is a great plus to have an instructor who lives locally and is able to work at such a great location. Come along for a great workout\, newcomers welcome. \nCost: $15 to the instructor please
URL:https://macdonaldvalleyassociation.org.au/event/yoga/2026-05-16/
LOCATION:St Albans School of Arts
CATEGORIES:Community Calendar
ATTACH;FMTTYPE=image/jpeg:https://macdonaldvalleyassociation.org.au/wp-content/uploads/2024/12/IMG_0096.jpeg
ORGANIZER;CN="St Albans School of Arts Committee":MAILTO:bookings@stalbansschoolofarts.org
END:VEVENT
BEGIN:VEVENT
DTSTART;TZID=Australia/Sydney:20260523T080000
DTEND;TZID=Australia/Sydney:20260523T090000
DTSTAMP:20260422T195020
CREATED:20241206T002410Z
LAST-MODIFIED:20241209T032545Z
UID:10001767-1779523200-1779526800@macdonaldvalleyassociation.org.au
SUMMARY:YOGA
DESCRIPTION:The Committee of the St Albans School of Arts Hall are pleased to let the community know that yoga classes instructed by Esh (with 40 years experience) will be held in the hall on Saturdays 8.00 -9.00 am. \nIt is a great plus to have an instructor who lives locally and is able to work at such a great location. Come along for a great workout\, newcomers welcome. \nCost: $15 to the instructor please
URL:https://macdonaldvalleyassociation.org.au/event/yoga/2026-05-23/
LOCATION:St Albans School of Arts
CATEGORIES:Community Calendar
ATTACH;FMTTYPE=image/jpeg:https://macdonaldvalleyassociation.org.au/wp-content/uploads/2024/12/IMG_0096.jpeg
ORGANIZER;CN="St Albans School of Arts Committee":MAILTO:bookings@stalbansschoolofarts.org
END:VEVENT
BEGIN:VEVENT
DTSTART;TZID=Australia/Sydney:20260530T080000
DTEND;TZID=Australia/Sydney:20260530T090000
DTSTAMP:20260422T195020
CREATED:20241206T002410Z
LAST-MODIFIED:20241209T032545Z
UID:10001768-1780128000-1780131600@macdonaldvalleyassociation.org.au
SUMMARY:YOGA
DESCRIPTION:The Committee of the St Albans School of Arts Hall are pleased to let the community know that yoga classes instructed by Esh (with 40 years experience) will be held in the hall on Saturdays 8.00 -9.00 am. \nIt is a great plus to have an instructor who lives locally and is able to work at such a great location. Come along for a great workout\, newcomers welcome. \nCost: $15 to the instructor please
URL:https://macdonaldvalleyassociation.org.au/event/yoga/2026-05-30/
LOCATION:St Albans School of Arts
CATEGORIES:Community Calendar
ATTACH;FMTTYPE=image/jpeg:https://macdonaldvalleyassociation.org.au/wp-content/uploads/2024/12/IMG_0096.jpeg
ORGANIZER;CN="St Albans School of Arts Committee":MAILTO:bookings@stalbansschoolofarts.org
END:VEVENT
BEGIN:VEVENT
DTSTART;TZID=Australia/Sydney:20260606T080000
DTEND;TZID=Australia/Sydney:20260606T090000
DTSTAMP:20260422T195020
CREATED:20241206T002410Z
LAST-MODIFIED:20241209T032545Z
UID:10001769-1780732800-1780736400@macdonaldvalleyassociation.org.au
SUMMARY:YOGA
DESCRIPTION:The Committee of the St Albans School of Arts Hall are pleased to let the community know that yoga classes instructed by Esh (with 40 years experience) will be held in the hall on Saturdays 8.00 -9.00 am. \nIt is a great plus to have an instructor who lives locally and is able to work at such a great location. Come along for a great workout\, newcomers welcome. \nCost: $15 to the instructor please
URL:https://macdonaldvalleyassociation.org.au/event/yoga/2026-06-06/
LOCATION:St Albans School of Arts
CATEGORIES:Community Calendar
ATTACH;FMTTYPE=image/jpeg:https://macdonaldvalleyassociation.org.au/wp-content/uploads/2024/12/IMG_0096.jpeg
ORGANIZER;CN="St Albans School of Arts Committee":MAILTO:bookings@stalbansschoolofarts.org
END:VEVENT
BEGIN:VEVENT
DTSTART;TZID=Australia/Sydney:20260607T100000
DTEND;TZID=Australia/Sydney:20260607T140000
DTSTAMP:20260422T195021
CREATED:20251114T041007Z
LAST-MODIFIED:20251114T041345Z
UID:10002029-1780826400-1780840800@macdonaldvalleyassociation.org.au
SUMMARY:St Albans Village Market
DESCRIPTION:Kings Birthday Weekend
URL:https://macdonaldvalleyassociation.org.au/event/st-albans-village-market-7/
LOCATION:St Albans Village Market\, 2 Wharf St\, St Albans\, NSW\, 2775\, Australia
CATEGORIES:Community Calendar,Markets
ATTACH;FMTTYPE=image/png:https://macdonaldvalleyassociation.org.au/wp-content/uploads/2025/11/Market-Logo-circle-only-4-scaled.png
ORGANIZER;CN="St Albans Village Market":MAILTO:info@stalbansvillagemarket.com.au
END:VEVENT
BEGIN:VEVENT
DTSTART;VALUE=DATE:20260608
DTEND;VALUE=DATE:20260609
DTSTAMP:20260422T195021
CREATED:20251114T050933Z
LAST-MODIFIED:20251114T050933Z
UID:10002043-1780876800-1780963199@macdonaldvalleyassociation.org.au
SUMMARY:King's Birthday
DESCRIPTION:Public Holiday
URL:https://macdonaldvalleyassociation.org.au/event/kings-birthday/
LOCATION:St Albans NSW\, Australia
CATEGORIES:Public Holiday
END:VEVENT
BEGIN:VEVENT
DTSTART;TZID=Australia/Sydney:20260612T160000
DTEND;TZID=Australia/Sydney:20260612T180000
DTSTAMP:20260422T195021
CREATED:20251125T053307Z
LAST-MODIFIED:20251125T053307Z
UID:10002051-1781280000-1781287200@macdonaldvalleyassociation.org.au
SUMMARY:Macdonald Valley Association Meeting
DESCRIPTION:Committee Meeting
URL:https://macdonaldvalleyassociation.org.au/event/macdonald-valley-association-meeting-4/
LOCATION:St Albans School of Arts
CATEGORIES:Meeting,MVA Events
ATTACH;FMTTYPE=image/jpeg:https://macdonaldvalleyassociation.org.au/wp-content/uploads/2025/11/MVA-logo.jpg
END:VEVENT
BEGIN:VEVENT
DTSTART;TZID=Australia/Sydney:20260613T080000
DTEND;TZID=Australia/Sydney:20260613T090000
DTSTAMP:20260422T195021
CREATED:20241206T002410Z
LAST-MODIFIED:20241209T032545Z
UID:10001770-1781337600-1781341200@macdonaldvalleyassociation.org.au
SUMMARY:YOGA
DESCRIPTION:The Committee of the St Albans School of Arts Hall are pleased to let the community know that yoga classes instructed by Esh (with 40 years experience) will be held in the hall on Saturdays 8.00 -9.00 am. \nIt is a great plus to have an instructor who lives locally and is able to work at such a great location. Come along for a great workout\, newcomers welcome. \nCost: $15 to the instructor please
URL:https://macdonaldvalleyassociation.org.au/event/yoga/2026-06-13/
LOCATION:St Albans School of Arts
CATEGORIES:Community Calendar
ATTACH;FMTTYPE=image/jpeg:https://macdonaldvalleyassociation.org.au/wp-content/uploads/2024/12/IMG_0096.jpeg
ORGANIZER;CN="St Albans School of Arts Committee":MAILTO:bookings@stalbansschoolofarts.org
END:VEVENT
BEGIN:VEVENT
DTSTART;TZID=Australia/Sydney:20260613T083000
DTEND;TZID=Australia/Sydney:20260613T160000
DTSTAMP:20260422T195021
CREATED:20251125T054912Z
LAST-MODIFIED:20251125T054912Z
UID:10002060-1781339400-1781366400@macdonaldvalleyassociation.org.au
SUMMARY:St Albans Common Working Bee
DESCRIPTION:Working bee dates for 2026 are every second Saturday of the month. \nPlease bring a plate to share for morning tea.  Lunch is provided.\nPlease bring tractors\, excavators\, brush cutters\, chipping hoes\, chainsaws and a sense of humour 🙂
URL:https://macdonaldvalleyassociation.org.au/event/st-albans-common-working-bee-16/
LOCATION:St Albans Common
CATEGORIES:Common Events,Community Calendar
ORGANIZER;CN="St Albans Common":MAILTO:stalbanscommon589@gmail.com
END:VEVENT
BEGIN:VEVENT
DTSTART;TZID=Australia/Sydney:20260618T083000
DTEND;TZID=Australia/Sydney:20260618T170000
DTSTAMP:20260422T195021
CREATED:20251125T060137Z
LAST-MODIFIED:20251125T060137Z
UID:10002068-1781771400-1781802000@macdonaldvalleyassociation.org.au
SUMMARY:St Albans Common Muster
DESCRIPTION:Muster Dates will coincide with the Maitland Cattle sales – which are held on the third Saturday of each month. \nRemember that all stock owners must: \n\nDo online registering of all stock movements both on and off the Common\nIf you are selling your stock directly off the Common\, you have to use a Common waybill from the Common hard copy book\nIf you are moving your stock off the Common\, but not to a sale yard\, you must complete either a TSS (Transported Stock Statement) or eNVD – and give one copy to the transporter.\n\nIf you hold a eNVD\, you do not need a TSS for stock movements.\n\n\n\n 
URL:https://macdonaldvalleyassociation.org.au/event/st-albans-common-muster-6/
LOCATION:St Albans Common
CATEGORIES:Common Events,Community Calendar
ORGANIZER;CN="St Albans Common":MAILTO:stalbanscommon589@gmail.com
END:VEVENT
BEGIN:VEVENT
DTSTART;TZID=Australia/Sydney:20260620T080000
DTEND;TZID=Australia/Sydney:20260620T090000
DTSTAMP:20260422T195021
CREATED:20241206T002410Z
LAST-MODIFIED:20241209T032545Z
UID:10001771-1781942400-1781946000@macdonaldvalleyassociation.org.au
SUMMARY:YOGA
DESCRIPTION:The Committee of the St Albans School of Arts Hall are pleased to let the community know that yoga classes instructed by Esh (with 40 years experience) will be held in the hall on Saturdays 8.00 -9.00 am. \nIt is a great plus to have an instructor who lives locally and is able to work at such a great location. Come along for a great workout\, newcomers welcome. \nCost: $15 to the instructor please
URL:https://macdonaldvalleyassociation.org.au/event/yoga/2026-06-20/
LOCATION:St Albans School of Arts
CATEGORIES:Community Calendar
ATTACH;FMTTYPE=image/jpeg:https://macdonaldvalleyassociation.org.au/wp-content/uploads/2024/12/IMG_0096.jpeg
ORGANIZER;CN="St Albans School of Arts Committee":MAILTO:bookings@stalbansschoolofarts.org
END:VEVENT
BEGIN:VEVENT
DTSTART;TZID=Australia/Sydney:20260627T080000
DTEND;TZID=Australia/Sydney:20260627T090000
DTSTAMP:20260422T195021
CREATED:20241206T002410Z
LAST-MODIFIED:20241209T032545Z
UID:10001772-1782547200-1782550800@macdonaldvalleyassociation.org.au
SUMMARY:YOGA
DESCRIPTION:The Committee of the St Albans School of Arts Hall are pleased to let the community know that yoga classes instructed by Esh (with 40 years experience) will be held in the hall on Saturdays 8.00 -9.00 am. \nIt is a great plus to have an instructor who lives locally and is able to work at such a great location. Come along for a great workout\, newcomers welcome. \nCost: $15 to the instructor please
URL:https://macdonaldvalleyassociation.org.au/event/yoga/2026-06-27/
LOCATION:St Albans School of Arts
CATEGORIES:Community Calendar
ATTACH;FMTTYPE=image/jpeg:https://macdonaldvalleyassociation.org.au/wp-content/uploads/2024/12/IMG_0096.jpeg
ORGANIZER;CN="St Albans School of Arts Committee":MAILTO:bookings@stalbansschoolofarts.org
END:VEVENT
BEGIN:VEVENT
DTSTART;TZID=Australia/Sydney:20260704T080000
DTEND;TZID=Australia/Sydney:20260704T090000
DTSTAMP:20260422T195021
CREATED:20241206T002410Z
LAST-MODIFIED:20241209T032545Z
UID:10001773-1783152000-1783155600@macdonaldvalleyassociation.org.au
SUMMARY:YOGA
DESCRIPTION:The Committee of the St Albans School of Arts Hall are pleased to let the community know that yoga classes instructed by Esh (with 40 years experience) will be held in the hall on Saturdays 8.00 -9.00 am. \nIt is a great plus to have an instructor who lives locally and is able to work at such a great location. Come along for a great workout\, newcomers welcome. \nCost: $15 to the instructor please
URL:https://macdonaldvalleyassociation.org.au/event/yoga/2026-07-04/
LOCATION:St Albans School of Arts
CATEGORIES:Community Calendar
ATTACH;FMTTYPE=image/jpeg:https://macdonaldvalleyassociation.org.au/wp-content/uploads/2024/12/IMG_0096.jpeg
ORGANIZER;CN="St Albans School of Arts Committee":MAILTO:bookings@stalbansschoolofarts.org
END:VEVENT
BEGIN:VEVENT
DTSTART;TZID=Australia/Sydney:20260711T080000
DTEND;TZID=Australia/Sydney:20260711T090000
DTSTAMP:20260422T195021
CREATED:20241206T002410Z
LAST-MODIFIED:20241209T032545Z
UID:10001774-1783756800-1783760400@macdonaldvalleyassociation.org.au
SUMMARY:YOGA
DESCRIPTION:The Committee of the St Albans School of Arts Hall are pleased to let the community know that yoga classes instructed by Esh (with 40 years experience) will be held in the hall on Saturdays 8.00 -9.00 am. \nIt is a great plus to have an instructor who lives locally and is able to work at such a great location. Come along for a great workout\, newcomers welcome. \nCost: $15 to the instructor please
URL:https://macdonaldvalleyassociation.org.au/event/yoga/2026-07-11/
LOCATION:St Albans School of Arts
CATEGORIES:Community Calendar
ATTACH;FMTTYPE=image/jpeg:https://macdonaldvalleyassociation.org.au/wp-content/uploads/2024/12/IMG_0096.jpeg
ORGANIZER;CN="St Albans School of Arts Committee":MAILTO:bookings@stalbansschoolofarts.org
END:VEVENT
BEGIN:VEVENT
DTSTART;TZID=Australia/Sydney:20260711T083000
DTEND;TZID=Australia/Sydney:20260711T160000
DTSTAMP:20260422T195021
CREATED:20251125T054943Z
LAST-MODIFIED:20251125T054943Z
UID:10002061-1783758600-1783785600@macdonaldvalleyassociation.org.au
SUMMARY:St Albans Common Working Bee
DESCRIPTION:Working bee dates for 2026 are every second Saturday of the month. \nPlease bring a plate to share for morning tea.  Lunch is provided.\nPlease bring tractors\, excavators\, brush cutters\, chipping hoes\, chainsaws and a sense of humour 🙂
URL:https://macdonaldvalleyassociation.org.au/event/st-albans-common-working-bee-17/
LOCATION:St Albans Common
CATEGORIES:Common Events,Community Calendar
ORGANIZER;CN="St Albans Common":MAILTO:stalbanscommon589@gmail.com
END:VEVENT
BEGIN:VEVENT
DTSTART;TZID=Australia/Sydney:20260712T100000
DTEND;TZID=Australia/Sydney:20260712T140000
DTSTAMP:20260422T195021
CREATED:20251114T041621Z
LAST-MODIFIED:20251114T041621Z
UID:10002030-1783850400-1783864800@macdonaldvalleyassociation.org.au
SUMMARY:St Albans Village Market
DESCRIPTION:Middle weekend of the NSW School Holidays
URL:https://macdonaldvalleyassociation.org.au/event/st-albans-village-market-8/
LOCATION:St Albans Village Market\, 2 Wharf St\, St Albans\, NSW\, 2775\, Australia
CATEGORIES:Community Calendar,Markets
ATTACH;FMTTYPE=image/png:https://macdonaldvalleyassociation.org.au/wp-content/uploads/2025/11/Market-Logo-circle-only-5-scaled.png
ORGANIZER;CN="St Albans Village Market":MAILTO:info@stalbansvillagemarket.com.au
END:VEVENT
BEGIN:VEVENT
DTSTART;TZID=Australia/Sydney:20260718T080000
DTEND;TZID=Australia/Sydney:20260718T090000
DTSTAMP:20260422T195021
CREATED:20241206T002410Z
LAST-MODIFIED:20241209T032545Z
UID:10001775-1784361600-1784365200@macdonaldvalleyassociation.org.au
SUMMARY:YOGA
DESCRIPTION:The Committee of the St Albans School of Arts Hall are pleased to let the community know that yoga classes instructed by Esh (with 40 years experience) will be held in the hall on Saturdays 8.00 -9.00 am. \nIt is a great plus to have an instructor who lives locally and is able to work at such a great location. Come along for a great workout\, newcomers welcome. \nCost: $15 to the instructor please
URL:https://macdonaldvalleyassociation.org.au/event/yoga/2026-07-18/
LOCATION:St Albans School of Arts
CATEGORIES:Community Calendar
ATTACH;FMTTYPE=image/jpeg:https://macdonaldvalleyassociation.org.au/wp-content/uploads/2024/12/IMG_0096.jpeg
ORGANIZER;CN="St Albans School of Arts Committee":MAILTO:bookings@stalbansschoolofarts.org
END:VEVENT
BEGIN:VEVENT
DTSTART;TZID=Australia/Sydney:20260725T080000
DTEND;TZID=Australia/Sydney:20260725T090000
DTSTAMP:20260422T195021
CREATED:20241206T002410Z
LAST-MODIFIED:20241209T032545Z
UID:10001776-1784966400-1784970000@macdonaldvalleyassociation.org.au
SUMMARY:YOGA
DESCRIPTION:The Committee of the St Albans School of Arts Hall are pleased to let the community know that yoga classes instructed by Esh (with 40 years experience) will be held in the hall on Saturdays 8.00 -9.00 am. \nIt is a great plus to have an instructor who lives locally and is able to work at such a great location. Come along for a great workout\, newcomers welcome. \nCost: $15 to the instructor please
URL:https://macdonaldvalleyassociation.org.au/event/yoga/2026-07-25/
LOCATION:St Albans School of Arts
CATEGORIES:Community Calendar
ATTACH;FMTTYPE=image/jpeg:https://macdonaldvalleyassociation.org.au/wp-content/uploads/2024/12/IMG_0096.jpeg
ORGANIZER;CN="St Albans School of Arts Committee":MAILTO:bookings@stalbansschoolofarts.org
END:VEVENT
BEGIN:VEVENT
DTSTART;TZID=Australia/Sydney:20260801T080000
DTEND;TZID=Australia/Sydney:20260801T090000
DTSTAMP:20260422T195021
CREATED:20241206T002410Z
LAST-MODIFIED:20241209T032545Z
UID:10001777-1785571200-1785574800@macdonaldvalleyassociation.org.au
SUMMARY:YOGA
DESCRIPTION:The Committee of the St Albans School of Arts Hall are pleased to let the community know that yoga classes instructed by Esh (with 40 years experience) will be held in the hall on Saturdays 8.00 -9.00 am. \nIt is a great plus to have an instructor who lives locally and is able to work at such a great location. Come along for a great workout\, newcomers welcome. \nCost: $15 to the instructor please
URL:https://macdonaldvalleyassociation.org.au/event/yoga/2026-08-01/
LOCATION:St Albans School of Arts
CATEGORIES:Community Calendar
ATTACH;FMTTYPE=image/jpeg:https://macdonaldvalleyassociation.org.au/wp-content/uploads/2024/12/IMG_0096.jpeg
ORGANIZER;CN="St Albans School of Arts Committee":MAILTO:bookings@stalbansschoolofarts.org
END:VEVENT
BEGIN:VEVENT
DTSTART;TZID=Australia/Sydney:20260808T080000
DTEND;TZID=Australia/Sydney:20260808T090000
DTSTAMP:20260422T195021
CREATED:20241206T002410Z
LAST-MODIFIED:20241209T032545Z
UID:10001778-1786176000-1786179600@macdonaldvalleyassociation.org.au
SUMMARY:YOGA
DESCRIPTION:The Committee of the St Albans School of Arts Hall are pleased to let the community know that yoga classes instructed by Esh (with 40 years experience) will be held in the hall on Saturdays 8.00 -9.00 am. \nIt is a great plus to have an instructor who lives locally and is able to work at such a great location. Come along for a great workout\, newcomers welcome. \nCost: $15 to the instructor please
URL:https://macdonaldvalleyassociation.org.au/event/yoga/2026-08-08/
LOCATION:St Albans School of Arts
CATEGORIES:Community Calendar
ATTACH;FMTTYPE=image/jpeg:https://macdonaldvalleyassociation.org.au/wp-content/uploads/2024/12/IMG_0096.jpeg
ORGANIZER;CN="St Albans School of Arts Committee":MAILTO:bookings@stalbansschoolofarts.org
END:VEVENT
BEGIN:VEVENT
DTSTART;TZID=Australia/Sydney:20260808T083000
DTEND;TZID=Australia/Sydney:20260808T160000
DTSTAMP:20260422T195021
CREATED:20251125T055012Z
LAST-MODIFIED:20251125T055012Z
UID:10002062-1786177800-1786204800@macdonaldvalleyassociation.org.au
SUMMARY:St Albans Common Working Bee
DESCRIPTION:Working bee dates for 2026 are every second Saturday of the month. \nPlease bring a plate to share for morning tea.  Lunch is provided.\nPlease bring tractors\, excavators\, brush cutters\, chipping hoes\, chainsaws and a sense of humour 🙂
URL:https://macdonaldvalleyassociation.org.au/event/st-albans-common-working-bee-18/
LOCATION:St Albans Common
CATEGORIES:Common Events,Community Calendar
ORGANIZER;CN="St Albans Common":MAILTO:stalbanscommon589@gmail.com
END:VEVENT
BEGIN:VEVENT
DTSTART;TZID=Australia/Sydney:20260814T160000
DTEND;TZID=Australia/Sydney:20260814T180000
DTSTAMP:20260422T195021
CREATED:20251125T053424Z
LAST-MODIFIED:20251125T053424Z
UID:10002052-1786723200-1786730400@macdonaldvalleyassociation.org.au
SUMMARY:Macdonald Valley Association Meeting
DESCRIPTION:Committee Meeting
URL:https://macdonaldvalleyassociation.org.au/event/macdonald-valley-association-meeting-5/
LOCATION:St Albans School of Arts
CATEGORIES:Meeting,MVA Events
ATTACH;FMTTYPE=image/jpeg:https://macdonaldvalleyassociation.org.au/wp-content/uploads/2025/11/MVA-logo.jpg
END:VEVENT
BEGIN:VEVENT
DTSTART;TZID=Australia/Sydney:20260815T080000
DTEND;TZID=Australia/Sydney:20260815T090000
DTSTAMP:20260422T195021
CREATED:20241206T002410Z
LAST-MODIFIED:20241209T032545Z
UID:10001779-1786780800-1786784400@macdonaldvalleyassociation.org.au
SUMMARY:YOGA
DESCRIPTION:The Committee of the St Albans School of Arts Hall are pleased to let the community know that yoga classes instructed by Esh (with 40 years experience) will be held in the hall on Saturdays 8.00 -9.00 am. \nIt is a great plus to have an instructor who lives locally and is able to work at such a great location. Come along for a great workout\, newcomers welcome. \nCost: $15 to the instructor please
URL:https://macdonaldvalleyassociation.org.au/event/yoga/2026-08-15/
LOCATION:St Albans School of Arts
CATEGORIES:Community Calendar
ATTACH;FMTTYPE=image/jpeg:https://macdonaldvalleyassociation.org.au/wp-content/uploads/2024/12/IMG_0096.jpeg
ORGANIZER;CN="St Albans School of Arts Committee":MAILTO:bookings@stalbansschoolofarts.org
END:VEVENT
END:VCALENDAR